BEGIN:VCALENDAR
VERSION:2.0
PRODID:-//My Calendar//mxm.dk//
BEGIN:VEVENT
SUMMARY:VIBRA Argentina Barcelona Razzmatazz
DTSTART:20250529T170000Z
DTEND:20250529T213000Z
DTSTAMP:20260419T204523Z
DESCRIPTION:<p style="text-align: center\;"><span style="font-weight: bold
 er\;"><span style="font-size: 24px\; font-family: &quot\;Helvetica Neue&qu
 ot\;\;">Vuelve Argentina VIBRA Festival a Barcelona!</span></span></p><p s
 tyle="text-align: center\;"><font face="Helvetica Neue">Tras el éxito de 
 su primera edición\, el Argentina VIBRA Festival regresa con su segunda e
 dición en 2025\, en Mallorca\, Madrid y Barcelona.</font></p><p style="te
 xt-align: center\;"><font face="Helvetica Neue">Preparate para disfrutar d
 e 6 artistas espectaculares que harán vibrar el escenario con su talento 
 y energía.</font></p><p style="text-align: center\;"><font face="Helvetic
 a Neue">¿Estás listo para ser parte de esta experiencia?</font></p><p st
 yle="text-align: center\;"><font face="Helvetica Neue">Las entradas ya est
 án a la venta.</font></p><p style="text-align: center\;"><font face="Helv
 etica Neue"><b>Los Fundamentalistas del Aire Acondicionado<br>Buitres (Uru
 guay)</b></font></p><p style="text-align: center\;"><font face="Helvetica 
 Neue"><b>ATENCIÓN</b></font></p><p style="text-align: center\;"><font fac
 e="Helvetica Neue">Debido a la nueva normativa en Barcelona para el horari
 o de finalización de los conciertos en esta ciudad nos vemos obligados a 
 hacerlo en 2 días distintos para que puedas disfrutar de todos los artist
 as.</font></p><p style="text-align: center\;"><font face="Helvetica Neue">
 <b><span style="font-size: 24px\;">Jueves 29 de Mayo de 2025 / Sala Razzma
 tazz 1</span><br>Puertas 18:30 Hs.<br>Buitres: 19:00 Hs.<br>Los Fundamenta
 listas del Aire Acondicionado: 20:15</b></font></p><p style="text-align: c
 enter\;"><span style="font-size: 18px\; font-weight: 700\; font-family: -a
 pple-system\, BlinkMacSystemFont\, &quot\;Segoe UI&quot\;\, Roboto\, &quot
 \;Helvetica Neue&quot\;\, Arial\, &quot\;Noto Sans&quot\;\, sans-serif\, &
 quot\;Apple Color Emoji&quot\;\, &quot\;Segoe UI Emoji&quot\;\, &quot\;Seg
 oe UI Symbol&quot\;\, &quot\;Noto Color Emoji&quot\;\;">Si viajas desde ot
 ra ciudad y necesitas hospedaje te dejamos una lista de hoteles que tienen
  un precio preferencial para los asistentes al festival.</span></p><p styl
 e="text-align: center\;"><a href="https://festvibra.bedel.es/?eventId=DD58
 1081-79A7-477F-869F-7D1BEE7FFEE3" target="_blank">Listado de Hoteles Dispo
 nibles</a><span style="font-size: 18px\; font-weight: 700\;"><br></span></
 p><p style="text-align: center\;"><font face="Helvetica Neue"><br></font><
 /p>
END:VEVENT
END:VCALENDAR
