BEGIN:VCALENDAR
VERSION:2.0
PRODID:-//My Calendar//mxm.dk//
BEGIN:VEVENT
SUMMARY:Pibes Chorros en Mallorca
DTSTART:20260207T210000Z
DTEND:20260207T225900Z
DTSTAMP:20260419T161634Z
DESCRIPTION:<p data-start="75" data-end="465"><strong data-start="78" data
 -end="125">Pibes Chorros en España – Primera Gira 2026</strong><br data
 -start="128" data-end="131">\n¡La cumbia villera desembarca en España! P
 or primera vez\, <strong data-start="189" data-end="206">Pibes Chorros</st
 rong>\, la banda más explosiva y auténtica de Argentina\, llega para hac
 ernos bailar\, cantar y agitar como nunca.<br data-start="312" data-end="3
 15">\nCon sus hits históricos y esa energía que los convirtió en un fen
 ómeno popular\, el grupo promete un show cargado de fiesta\, baile y pura
  adrenalina.</p><p>\n</p><p data-start="467" data-end="684">Prepárate par
 a vivir una noche inolvidable\, con todos esos temas que ya son himnos de 
 la cumbia y que no pueden faltar en ninguna celebración.<br data-start="6
 09" data-end="612">&nbsp\;¡No te lo podés perder\, que la primera vez se
  vive una sola vez!&nbsp\;</p>
END:VEVENT
END:VCALENDAR
