BEGIN:VCALENDAR
VERSION:2.0
PRODID:-//My Calendar//mxm.dk//
BEGIN:VEVENT
SUMMARY:Agustina Aguilar Presenta Metanoia en Barcelona
DTSTART:20260317T200000Z
DTEND:20260317T203000Z
DTSTAMP:20260421T120237Z
DESCRIPTION:<p><b>Agustina Aguilar</b>\, una de las voces más singulares 
 del stand up argentino\, presenta su último espectáculo: “<b>Metanoia<
 /b>”\, un show que expone fracasos\, vergüenzas y anécdotas con una mi
 rada irónica sobre las vivencias de una persona que&nbsp\; intenta encaja
 r en un mundo incómodo y cambiante. Desde la adolescencia hasta la matern
 idad moderna\, Agustina recorre su experiencia dándole protagonismo al hu
 mor por sobre todo.</p><p><span style="font-family: -apple-system\, BlinkM
 acSystemFont\, &quot\;Segoe UI&quot\;\, Roboto\, &quot\;Helvetica Neue&quo
 t\;\, Arial\, &quot\;Noto Sans&quot\;\, sans-serif\, &quot\;Apple Color Em
 oji&quot\;\, &quot\;Segoe UI Emoji&quot\;\, &quot\;Segoe UI Symbol&quot\;\
 , &quot\;Noto Color Emoji&quot\;\; font-size: 1rem\;">Su propuesta es tan 
 ácida como entrañable\, donde el humor se convierte en el mejor antídot
 o contra los mandatos\, el caos cotidiano y las expectativas sociales. Un 
 espectáculo que combina textos afilados\, ritmo escénico y una gran cone
 xión con el público.</span></p><p><span style="font-family: -apple-syste
 m\, BlinkMacSystemFont\, &quot\;Segoe UI&quot\;\, Roboto\, &quot\;Helvetic
 a Neue&quot\;\, Arial\, &quot\;Noto Sans&quot\;\, sans-serif\, &quot\;Appl
 e Color Emoji&quot\;\, &quot\;Segoe UI Emoji&quot\;\, &quot\;Segoe UI Symb
 ol&quot\;\, &quot\;Noto Color Emoji&quot\;\; font-size: 1rem\;">Con más d
 e 15 años de experiencia en los escenarios\, por primera vez se presenta 
 con su unipersonal en España\, Irlanda e Inglaterra\, en marco de una gir
 a despedida de Metanoia\, un show que recorrió por toda la Argentina\, Ch
 ile y Uruguay.</span></p>
END:VEVENT
END:VCALENDAR
