BEGIN:VCALENDAR
VERSION:2.0
PRODID:-//My Calendar//mxm.dk//
BEGIN:VEVENT
SUMMARY:The La Planta en Malaga
DTSTART:20260613T190000Z
DTEND:20260613T210000Z
DTSTAMP:20260424T154704Z
DESCRIPTION:<p><span style="font-weight: bolder\;">THE LA PLANTA AL VIEJO 
 CONTINENTE:</span><br>La Casa De La Cumbia llega a Europa \, atentos todos
  los lugares de España que vamos a vivir un verano 2026 impresiónate!<br
 >Para todos los que pedían la banda del momento\, llegó la hora..</p>
END:VEVENT
END:VCALENDAR
