BEGIN:VCALENDAR
VERSION:2.0
PRODID:-//My Calendar//mxm.dk//
BEGIN:VEVENT
SUMMARY:Jambao y Amigos en Málaga
DTSTART:20250613T180000Z
DTEND:20250613T215900Z
DTSTAMP:20260422T100914Z
DESCRIPTION:<p>Jambao y Amigos vuelve a España para festejar sus 25 años
  de recorrido musical.</p>
END:VEVENT
END:VCALENDAR
