BEGIN:VCALENDAR
VERSION:2.0
PRODID:-//My Calendar//mxm.dk//
BEGIN:VEVENT
SUMMARY:Jambao y Amigos en Valencia
DTSTART:20250617T180000Z
DTEND:20250617T215900Z
DTSTAMP:20260424T135341Z
DESCRIPTION:<p>Jambao y Amigos vuelve a España para festejar sus 25 años
  de recorrido musical.</p>
END:VEVENT
END:VCALENDAR
