BEGIN:VCALENDAR
VERSION:2.0
PRODID:-//My Calendar//mxm.dk//
BEGIN:VEVENT
SUMMARY:Don Osvaldo en Malaga
DTSTART:20251025T190000Z
DTEND:20251025T210000Z
DTSTAMP:20260421T155330Z
DESCRIPTION:<p style="text-align: center\; "><font face="Helvetica"><span 
 style="font-size: 24px\;"><b>Don Osvaldo vuelve a España<br><span style="
 font-size: 18px\;">Gira Rosalia de Castro 2025</span></b></span></font></p
 ><p style="text-align: center\; "><font face="Helvetica"><span style="font
 -size: 14px\;">Sábado 25 de Octubre - Málaga - Sala Paris 15<br>Domingo 
 26 de Octubre - Madrid - Sala But<br>Miércoles 29 de Octubre - Mallorca -
  Sala Es Gremi<br>Viernes 31 de Octubre - Valencia - Sala Madison<br>Domin
 go 2 de Noviembre - Barcelona - Sala Razzmatazz<br><br><b>Produce Rocanmus
 ic / Chainsaw Entertainment</b></span></font></p>
END:VEVENT
END:VCALENDAR
