BEGIN:VCALENDAR
VERSION:2.0
PRODID:-//My Calendar//mxm.dk//
BEGIN:VEVENT
SUMMARY:Don Osvaldo en Valencia
DTSTART:20251031T200000Z
DTEND:20251031T220000Z
DTSTAMP:20260424T135146Z
DESCRIPTION:<p style="text-align: center\;"><font face="Helvetica"><span s
 tyle="font-size: 24px\;"><span style="font-weight: bolder\;">Don Osvaldo v
 uelve a España<br><span style="font-size: 18px\;">Gira Rosalia de Castro 
 2025</span></span></span></font></p><p style="text-align: center\;"><font 
 face="Helvetica"><span style="font-size: 14px\;">Sábado 25 de Octubre - M
 álaga - Sala Paris 15<br>Domingo 26 de Octubre - Madrid - Sala But<br>Mi
 ércoles 29 de Octubre - Mallorca - Sala Es Gremi<br>Viernes 31 de Octubre
  - Valencia - Sala Madison<br>Domingo 2 de Noviembre - Barcelona - Sala Ra
 zzmatazz<br><br><span style="font-weight: bolder\;">Produce Rocanmusic / C
 hainsaw Entertainment</span></span></font></p>
END:VEVENT
END:VCALENDAR
