BEGIN:VCALENDAR
VERSION:2.0
PRODID:-//My Calendar//mxm.dk//
BEGIN:VEVENT
SUMMARY:ILEGALES - Gira Joven y Arrogante en Málaga
DTSTART:20251024T183000Z
DTEND:20250919T110000Z
DTSTAMP:20260421T155810Z
DESCRIPTION:<p class="s7" style="margin: 0cm 0cm 9pt\; font-size: 12pt\; f
 ont-family: &quot\;Times New Roman&quot\;\, serif\; color: rgb(0\, 0\, 0)\
 ; text-align: justify\;"><span class="bumpedfont15"><span style="font-size
 : 13pt\; font-family: &quot\;Century Gothic&quot\;\, sans-serif\; color: r
 gb(51\, 51\, 51)\;">Desde su regreso en 2015\,&nbsp\;<b>Ilegales</b>&nbsp\
 ;han protagonizado un ascenso vertiginoso en cuanto a venta de entradas\, 
 presencia en festivales y venta de discos. Como si vivieran una segunda (o
  tercera) juventud\, el grupo cuenta sus conciertos por "soldouts" y reval
 idan la fama de tener uno de los mejores directos de la escena rock cantad
 o en castellano.</span></span><span style="font-size: 13.5pt\;"><o:p></o:p
 ></span></p><p class="s7" style="margin: 0cm 0cm 9pt\; font-size: 12pt\; f
 ont-family: &quot\;Times New Roman&quot\;\, serif\; color: rgb(0\, 0\, 0)\
 ; text-align: justify\;"><span class="bumpedfont15"><span style="font-size
 : 13pt\; font-family: &quot\;Century Gothic&quot\;\, sans-serif\; color: r
 gb(51\, 51\, 51)\;">Resulta especialmente procedente&nbsp\;que esta nueva 
 gira se llame&nbsp\;"<b><i>Joven y Arrogante</i></b>"\, pues el grupo&nbsp
 \;lleva años demostrando&nbsp\;que mantiene la fuerza\, la audacia&nbsp\;
 y la frescura de aquellos primeros&nbsp\;tiempos\,&nbsp\;cuando&nbsp\;se f
 orjaron la aureola que les ha hecho memorables.&nbsp\;"<b><i>Joven y Arrog
 ante</i></b>"<i>&nbsp\;también es el título de su nuevo disco\, el decim
 otercero de estudio\, que llegará al mercado el 7 de marzo de 2025.</i></
 span></span><span style="font-size: 13.5pt\;"><o:p></o:p></span></p><p cla
 ss="s7" style="margin: 0cm 0cm 9pt\; font-size: 12pt\; font-family: &quot\
 ;Times New Roman&quot\;\, serif\; color: rgb(0\, 0\, 0)\; text-align: just
 ify\;"><span class="bumpedfont15"><span style="font-size: 13pt\; font-fami
 ly: &quot\;Century Gothic&quot\;\, sans-serif\; color: rgb(51\, 51\, 51)\;
 ">Taquilleros y con un directo arrollador<b>\,</b>&nbsp\;tanto en España 
 como en distintos países americanos (sobre todo en&nbsp\;México\, Colomb
 ia\, Ecuador y Chile)\,&nbsp\;con el disco que acaban de grabar (su 13º e
 n estudio)\, iniciarán en marzo de 2025 una nueva gira\, donde los nuevos
  temas convivirán a la perfección con sus clásicos\, porque si hay algo
  bueno en el repertorio de&nbsp\;<b>Ilegales</b>\, es que la mayoría de s
 us canciones son himnos atemporales\, de esos que tienen al público canta
 ndo a coro desde el primer verso hasta el último acorde.</span></span><sp
 an style="font-size: 13.5pt\;"><o:p></o:p></span></p>
END:VEVENT
END:VCALENDAR
