BEGIN:VCALENDAR
VERSION:2.0
PRODID:-//My Calendar//mxm.dk//
BEGIN:VEVENT
SUMMARY:VIBRA Argentina Madrid
DTSTART:20250601T140000Z
DTEND:20250602T000000Z
DTSTAMP:20260425T200157Z
DESCRIPTION:<p style="text-align: center\; "><span style="font-family: &qu
 ot\;Helvetica Neue&quot\;\; font-size: 24px\; font-weight: 700\;">Vuelve A
 rgentina VIBRA Festival a</span><span style="font-family: &quot\;Helvetica
  Neue&quot\;\; font-size: 24px\; font-weight: 700\;">&nbsp\;</span><b><spa
 n style="font-size: 24px\; font-family: &quot\;Helvetica Neue&quot\;\;">Ma
 drid!</span></b></p><p style="text-align: center\;"><font face="Helvetica 
 Neue">Tras el éxito de su primera edición\, el Vibra Festival regresa co
 n su segunda edición en 2025\, en Mallorca\, Madrid y Barcelona. </font><
 /p><p style="text-align: center\;"><font face="Helvetica Neue">Preparate p
 ara disfrutar de 6 artistas espectaculares que harán vibrar el escenario 
 con su talento y energía. </font></p><p style="text-align: center\;"><fon
 t face="Helvetica Neue">¿Estás listo para ser parte de esta experiencia?
  </font></p><p style="text-align: center\;"><font face="Helvetica Neue">La
 s entradas ya están a la venta.</font></p><p style="text-align: center\;"
 ><b style="font-family: Abel\, sans-serif\; font-weight: bold !important\;
 "><span style="font-size: 24px\;">Line UP Completo / Horarios:</span><br><
 /b></p><p class="p1" style="margin-right: 0px\; margin-bottom: 0px\; margi
 n-left: 0px\; font-variant-numeric: normal\; font-variant-east-asian: norm
 al\; font-variant-alternates: normal\; font-size-adjust: none\; font-kerni
 ng: auto\; font-optical-sizing: auto\; font-feature-settings: normal\; fon
 t-variation-settings: normal\; font-variant-position: normal\; font-varian
 t-emoji: normal\; font-stretch: normal\; font-size: 13px\; line-height: no
 rmal\; font-family: &quot\;Helvetica Neue&quot\;\; text-align: center\; co
 lor: rgb(0\, 0\, 0)\;"><span style="font-size: 18px\;">Puertas: 17:00</spa
 n></p><p class="p1" style="margin-right: 0px\; margin-bottom: 0px\; margin
 -left: 0px\; font-variant-numeric: normal\; font-variant-east-asian: norma
 l\; font-variant-alternates: normal\; font-size-adjust: none\; font-kernin
 g: auto\; font-optical-sizing: auto\; font-feature-settings: normal\; font
 -variation-settings: normal\; font-variant-position: normal\; font-variant
 -emoji: normal\; font-stretch: normal\; font-size: 13px\; line-height: nor
 mal\; font-family: &quot\;Helvetica Neue&quot\;\; text-align: center\; col
 or: rgb(0\, 0\, 0)\;"><span style="font-size: 18px\;">Estelares: 17:30</sp
 an></p><p class="p1" style="margin-right: 0px\; margin-bottom: 0px\; margi
 n-left: 0px\; font-variant-numeric: normal\; font-variant-east-asian: norm
 al\; font-variant-alternates: normal\; font-size-adjust: none\; font-kerni
 ng: auto\; font-optical-sizing: auto\; font-feature-settings: normal\; fon
 t-variation-settings: normal\; font-variant-position: normal\; font-varian
 t-emoji: normal\; font-stretch: normal\; font-size: 13px\; line-height: no
 rmal\; font-family: &quot\;Helvetica Neue&quot\;\; text-align: center\; co
 lor: rgb(0\, 0\, 0)\;"><span style="font-size: 18px\;">Los Tipitos: 18:20<
 /span></p><p class="p1" style="margin-right: 0px\; margin-bottom: 0px\; ma
 rgin-left: 0px\; font-variant-numeric: normal\; font-variant-east-asian: n
 ormal\; font-variant-alternates: normal\; font-size-adjust: none\; font-ke
 rning: auto\; font-optical-sizing: auto\; font-feature-settings: normal\; 
 font-variation-settings: normal\; font-variant-position: normal\; font-var
 iant-emoji: normal\; font-stretch: normal\; font-size: 13px\; line-height:
  normal\; font-family: &quot\;Helvetica Neue&quot\;\; text-align: center\;
  color: rgb(0\, 0\, 0)\;"><span style="font-size: 18px\;">Buitres: 19:20</
 span></p><p class="p1" style="margin-right: 0px\; margin-bottom: 0px\; mar
 gin-left: 0px\; font-variant-numeric: normal\; font-variant-east-asian: no
 rmal\; font-variant-alternates: normal\; font-size-adjust: none\; font-ker
 ning: auto\; font-optical-sizing: auto\; font-feature-settings: normal\; f
 ont-variation-settings: normal\; font-variant-position: normal\; font-vari
 ant-emoji: normal\; font-stretch: normal\; font-size: 13px\; line-height: 
 normal\; font-family: &quot\;Helvetica Neue&quot\;\; text-align: center\; 
 color: rgb(0\, 0\, 0)\;"><span style="font-size: 18px\;">2 Minutos: 20:20<
 /span></p><p class="p1" style="margin-right: 0px\; margin-bottom: 0px\; ma
 rgin-left: 0px\; font-variant-numeric: normal\; font-variant-east-asian: n
 ormal\; font-variant-alternates: normal\; font-size-adjust: none\; font-ke
 rning: auto\; font-optical-sizing: auto\; font-feature-settings: normal\; 
 font-variation-settings: normal\; font-variant-position: normal\; font-var
 iant-emoji: normal\; font-stretch: normal\; font-size: 13px\; line-height:
  normal\; font-family: &quot\;Helvetica Neue&quot\;\; text-align: center\;
  color: rgb(0\, 0\, 0)\;"><span style="font-size: 18px\;">Los Fabulosos Ca
 dillacs: 21:30<br>Los Fundamentalistas del Aire Acondicionado</span><span 
 style="font-size: 18px\;">: 23:30</span></p><p style="text-align: center\;
 "><b><br></b></p><div style="text-align: center\;"><span style="font-famil
 y: -apple-system\, BlinkMacSystemFont\, &quot\;Segoe UI&quot\;\, Roboto\, 
 &quot\;Helvetica Neue&quot\;\, Arial\, &quot\;Noto Sans&quot\;\, sans-seri
 f\, &quot\;Apple Color Emoji&quot\;\, &quot\;Segoe UI Emoji&quot\;\, &quot
 \;Segoe UI Symbol&quot\;\, &quot\;Noto Color Emoji&quot\;\; font-size: 18p
 x\;"><b>Si viajas desde otra ciudad y necesitas hospedaje te dejamos una l
 ista de hoteles que tienen un precio preferencial para los asistentes al f
 estival.</b></span></div><div style="text-align: center\;"><a href="https:
 //festvibra.bedel.es/?eventId=081611DF-5C02-4597-BD02-BCD00A73FD86" target
 ="_blank">Listado de Hoteles Disponibles</a><span style="font-family: -app
 le-system\, BlinkMacSystemFont\, &quot\;Segoe UI&quot\;\, Roboto\, &quot\;
 Helvetica Neue&quot\;\, Arial\, &quot\;Noto Sans&quot\;\, sans-serif\, &qu
 ot\;Apple Color Emoji&quot\;\, &quot\;Segoe UI Emoji&quot\;\, &quot\;Segoe
  UI Symbol&quot\;\, &quot\;Noto Color Emoji&quot\;\; font-size: 1rem\;"><b
 r></span></div><p style="text-align: center\;"><b><br></b></p>
END:VEVENT
END:VCALENDAR
