BEGIN:VCALENDAR
VERSION:2.0
PRODID:-//My Calendar//mxm.dk//
BEGIN:VEVENT
SUMMARY:Angela Leiva - Mi Voz Para El Mundo Tour en Malaga
DTSTART:20251109T200000Z
DTEND:20251109T220000Z
DTSTAMP:20260421T155653Z
DESCRIPTION:<p class="MsoNormal" style="margin: 0cm\; text-align: center\;
  line-height: 16.8667px\; font-size: 11pt\; font-family: Arial\, sans-seri
 f\; color: rgb(0\, 0\, 0)\;"><span lang="es">La cantautora anuncia uno de 
 los tours más importantes de su carrera “Mi Voz para el Mundo” recorr
 iendo diferentes países\, y Ciudades y Provincias de nuestro país<o:p></
 o:p></span></p><p class="MsoNormal" style="margin: 0cm\; text-align: cente
 r\; line-height: 16.8667px\; font-size: 11pt\; font-family: Arial\, sans-s
 erif\; color: rgb(0\, 0\, 0)\;"><span lang="es">&nbsp\;</span></p><p class
 ="MsoNormal" style="margin: 0cm\; text-align: center\; line-height: 16.866
 7px\; font-size: 11pt\; font-family: Arial\, sans-serif\; color: rgb(0\, 0
 \, 0)\;"><span lang="es">Después del lanzamiento de su más reciente álb
 um “15 Años”\, festejando sus más de 15 años de carrera\, Angela no
 s vuelve a sorprender con una nueva canción titulada “Ya Me Olvidé”.
 <o:p></o:p></span></p><p class="MsoNormal" style="margin: 0cm\; text-align
 : center\; line-height: 16.8667px\; font-size: 11pt\; font-family: Arial\,
  sans-serif\; color: rgb(0\, 0\, 0)\;"><span lang="es">Una producción sú
 per especial\, que hace referencia a sus vivencias y en cuanto a los sonid
 os\, su amor por México y su cultura.<o:p></o:p></span></p><p class="MsoN
 ormal" style="margin: 0cm\; text-align: center\; line-height: 16.8667px\; 
 font-size: 11pt\; font-family: Arial\, sans-serif\; color: rgb(0\, 0\, 0)\
 ;"><span lang="es">&nbsp\;</span></p><p class="MsoNormal" style="margin: 0
 cm\; text-align: center\; line-height: 16.8667px\; font-size: 11pt\; font-
 family: Arial\, sans-serif\; color: rgb(0\, 0\, 0)\;"><span lang="es">“M
 i voz para el mundo” es una propuesta donde Ángela Leiva los invita a t
 odos sus seguidores a un nuevo tour\, donde no solo se recorrerán todos s
 us éxitos sino también su música nueva\, recorriendo los mejores escena
 rios de Argentina y el Mundo<o:p></o:p></span></p><p class="MsoNormal" sty
 le="margin: 0cm\; text-align: center\; line-height: 16.8667px\; font-size:
  11pt\; font-family: Arial\, sans-serif\; color: rgb(0\, 0\, 0)\;"><span s
 tyle="font-size: 11pt\;">&nbsp\;</span></p><p class="MsoNormal" style="mar
 gin: 0cm\; text-align: center\; line-height: 16.8667px\; font-size: 11pt\;
  font-family: Arial\, sans-serif\; color: rgb(0\, 0\, 0)\;"><span lang="es
 ">Con esta propuesta innovadora\, Ángela invita a sus seguidores a revivi
 r los momentos que la convirtieron en una de las voces más queridas de la
  música popular.</span></p><p class="MsoNormal" style="margin: 0cm\; text
 -align: center\; line-height: 16.8667px\; font-size: 11pt\; font-family: A
 rial\, sans-serif\; color: rgb(0\, 0\, 0)\;"><span lang="es"><br></span></
 p><p class="MsoNormal" align="center" style="margin: 0cm\; line-height: 16
 .8667px\; font-size: 11pt\; font-family: Arial\, sans-serif\; color: rgb(0
 \, 0\, 0)\; text-align: center\;"><span lang="es">&nbsp\;<span style="font
 -weight: bolder\;">Twitter</span><o:p></o:p></span></p><p class="MsoNormal
 " align="center" style="margin: 0cm\; line-height: 16.8667px\; font-size: 
 11pt\; font-family: Arial\, sans-serif\; color: rgb(0\, 0\, 0)\; text-alig
 n: center\;"><span lang="es">https://twitter.com/angelaleivaok?lang=es<o:p
 ></o:p></span></p><p class="MsoNormal" align="center" style="margin: 0cm\;
  line-height: 16.8667px\; font-size: 11pt\; font-family: Arial\, sans-seri
 f\; color: rgb(0\, 0\, 0)\; text-align: center\;"><span lang="es">&nbsp\;<
 span style="font-weight: bolder\;">Facebook</span><o:p></o:p></span></p><p
  class="MsoNormal" align="center" style="margin: 0cm\; line-height: 16.866
 7px\; font-size: 11pt\; font-family: Arial\, sans-serif\; color: rgb(0\, 0
 \, 0)\; text-align: center\;"><span lang="es">https://www.facebook.com/Ang
 elaLeivaOk<o:p></o:p></span></p><p class="MsoNormal" align="center" style=
 "margin: 0cm\; line-height: 16.8667px\; font-size: 11pt\; font-family: Ari
 al\, sans-serif\; color: rgb(0\, 0\, 0)\; text-align: center\;"><span lang
 ="es">&nbsp\;<span style="font-weight: bolder\;">Youtube</span><o:p></o:p>
 </span></p><p class="MsoNormal" align="center" style="margin: 0cm\; line-h
 eight: 16.8667px\; font-size: 11pt\; font-family: Arial\, sans-serif\; col
 or: rgb(0\, 0\, 0)\; text-align: center\;"><span lang="es">https://www.you
 tube.com/user/AngelaLeivaOfficial<o:p></o:p></span></p><p class="MsoNormal
 " align="center" style="margin: 0cm\; line-height: 16.8667px\; font-size: 
 11pt\; font-family: Arial\, sans-serif\; color: rgb(0\, 0\, 0)\; text-alig
 n: center\;"><span lang="es"><span style="font-weight: bolder\;">&nbsp\;Ti
 k Tok<o:p></o:p></span></span></p><p class="MsoNormal" align="center" styl
 e="margin: 0cm\; line-height: 16.8667px\; font-size: 11pt\; font-family: A
 rial\, sans-serif\; color: rgb(0\, 0\, 0)\; text-align: center\;"><span la
 ng="es">https://www.tiktok.com/@angelaleivaok<o:p></o:p></span></p><p clas
 s="MsoNormal" align="center" style="margin: 0cm\; line-height: 16.8667px\;
  font-size: 11pt\; font-family: Arial\, sans-serif\; color: rgb(0\, 0\, 0)
 \; text-align: center\;"><span lang="es">&nbsp\;<span style="font-weight: 
 bolder\;">Spotify</span><o:p></o:p></span></p><p class="MsoNormal" style="
 margin: 0cm\; line-height: 16.8667px\; font-size: 11pt\; font-family: Aria
 l\, sans-serif\; color: rgb(0\, 0\, 0)\; text-align: justify\;"><span lang
 ="es"><o:p></o:p></span></p><p class="MsoNormal" align="center" style="mar
 gin: 0cm\; line-height: 16.8667px\; font-size: 11pt\; font-family: Arial\,
  sans-serif\; color: rgb(0\, 0\, 0)\; text-align: center\;"><span lang="es
 ">Angela Leiva</span></p>
END:VEVENT
END:VCALENDAR
