BEGIN:VCALENDAR
VERSION:2.0
PRODID:-//My Calendar//mxm.dk//
BEGIN:VEVENT
SUMMARY:Dante Spinetta en Malaga
DTSTART:20251107T200000Z
DTEND:20251030T220000Z
DTSTAMP:20260424T203803Z
DESCRIPTION:<p style="font-family: Abel\, sans-serif\; text-align: center\
 ;">DANTE SPINETTA REGRESA A ESPAÑA&nbsp\;<br>Mientras termina lo que ser
 á su sexto disco de estudio\, y tras el esperadísimo regreso de&nbsp\;<b
  style="font-weight: bold !important\;">Illya Kuryaki &amp\; Valderramas</
 b>&nbsp\;por una noche\, la banda que marcó el ADN del rap y la música u
 rbana en Argentina\, el mega artista pisa fuerte este 2025 con&nbsp\;<b st
 yle="font-weight: bold !important\;">STARLIGHT</b>\, su primer lanzamiento
  del año\, y adelanta fechas de su próximo Tour que comenzará en noviem
 bre por varias ciudades de España\, donde cerró el&nbsp\;<b style="font-
 weight: bold !important\;">Funky Latin Nation Tour</b>&nbsp\;en mayo del 2
 024.</p><p style="font-family: Abel\, sans-serif\; text-align: center\;">H
 ace tiempo que el sello Spinetta deja su huella en la contemporaneidad de 
 la obra artística de Dante. Y no hace falta más que revisar los más de 
 30 años de carrera de un artista que comenzó a los ¡14 años!&nbsp\; Su
  último disco\,&nbsp\;<b style="font-weight: bold !important\;">Mesa Dulc
 e</b>&nbsp\;marcó un antes y un después en la carrera de Dante Spinetta.
  Con un prestigioso Latin Grammy ganado en Sevilla\, cuatro Premios Gardel
  y múltiples reconocimientos internacionales\, el músico argentino tambi
 én estrenó las&nbsp\;<b style="font-weight: bold !important\;">DAMASCO S
 ESSIONS</b>\, una poderosa versión en vivo de canciones de Mesa Dulce\, e
 n sus palabras\, ¨una muestra fiel de como suena el proyecto¨ y que el p
 úblico español tendrá la oportunidad de escuchar en vivo en noviembre.<
 /p><p style="font-family: Abel\, sans-serif\; text-align: center\;">Muchas
  vidas y sonidos pasaron por el talentoso músico y productor que\, a los 
 14 años\, dio sus primeros pasos con Illya Kuryaki &amp\; The Valderramas
 \, y que hoy celebra llegar “al sonido que siempre anheló” y la cúsp
 ide de su lado más funkero con Mesa Dulce\, un álbum que con un poco má
 s de dos años\, ya es un clásico\, producido por él\, grabado y mezclad
 o en el mítico estudio de su padre en Buenos Aires\, La Diosa Salvaje\, y
  con invitados de lujo como&nbsp\;<b style="font-weight: bold !important\;
 ">Trueno&nbsp\;</b>y&nbsp\;<b style="font-weight: bold !important\;">Ca7tr
 iel</b>.</p>
END:VEVENT
END:VCALENDAR
